BEGIN:VCALENDAR
VERSION:2.0
PRODID:-//Wales Baltic Society - ECPv6.15.17.1//NONSGML v1.0//EN
CALSCALE:GREGORIAN
METHOD:PUBLISH
X-ORIGINAL-URL:https://walesbaltic.co.uk
X-WR-CALDESC:Events for Wales Baltic Society
REFRESH-INTERVAL;VALUE=DURATION:PT1H
X-Robots-Tag:noindex
X-PUBLISHED-TTL:PT1H
BEGIN:VTIMEZONE
TZID:Europe/London
BEGIN:DAYLIGHT
TZOFFSETFROM:+0000
TZOFFSETTO:+0100
TZNAME:BST
DTSTART:20210328T010000
END:DAYLIGHT
BEGIN:STANDARD
TZOFFSETFROM:+0100
TZOFFSETTO:+0000
TZNAME:GMT
DTSTART:20211031T010000
END:STANDARD
BEGIN:DAYLIGHT
TZOFFSETFROM:+0000
TZOFFSETTO:+0100
TZNAME:BST
DTSTART:20220327T010000
END:DAYLIGHT
BEGIN:STANDARD
TZOFFSETFROM:+0100
TZOFFSETTO:+0000
TZNAME:GMT
DTSTART:20221030T010000
END:STANDARD
BEGIN:DAYLIGHT
TZOFFSETFROM:+0000
TZOFFSETTO:+0100
TZNAME:BST
DTSTART:20230326T010000
END:DAYLIGHT
BEGIN:STANDARD
TZOFFSETFROM:+0100
TZOFFSETTO:+0000
TZNAME:GMT
DTSTART:20231029T010000
END:STANDARD
END:VTIMEZONE
BEGIN:VEVENT
DTSTART;TZID=Europe/London:20221120T100000
DTEND;TZID=Europe/London:20221120T100000
DTSTAMP:20260424T174037
CREATED:20221113T185145Z
LAST-MODIFIED:20221114T183350Z
UID:159-1668938400-1668938400@walesbaltic.co.uk
SUMMARY:Lithuanian Community in Wales - Screening of "Kernagis"
DESCRIPTION:This screening is in Lithuanian with English subtitles. \nCosts £15\, tickets from eventbrite. Contact organiser for more information.
URL:https://walesbaltic.co.uk/event/screening-of-kernagis/
LOCATION:Everyman Cardiff\, Mermaid Quay\, Units 13 & 14\, Cardiff\, CF10 5BZ\, United Kingdom
ATTACH;FMTTYPE=image/jpeg:https://walesbaltic.co.uk/wp-content/uploads/2022/11/KernagisPoster.jpg
ORGANIZER;CN="Lithuanian Community in Wales":MAILTO:info@vlb.wales
END:VEVENT
END:VCALENDAR