BEGIN:VCALENDAR
VERSION:2.0
PRODID:-//Wales Baltic Society - ECPv6.15.17.1//NONSGML v1.0//EN
CALSCALE:GREGORIAN
METHOD:PUBLISH
X-WR-CALNAME:Wales Baltic Society
X-ORIGINAL-URL:https://walesbaltic.co.uk
X-WR-CALDESC:Events for Wales Baltic Society
REFRESH-INTERVAL;VALUE=DURATION:PT1H
X-Robots-Tag:noindex
X-PUBLISHED-TTL:PT1H
BEGIN:VTIMEZONE
TZID:Europe/London
BEGIN:DAYLIGHT
TZOFFSETFROM:+0000
TZOFFSETTO:+0100
TZNAME:BST
DTSTART:20240331T010000
END:DAYLIGHT
BEGIN:STANDARD
TZOFFSETFROM:+0100
TZOFFSETTO:+0000
TZNAME:GMT
DTSTART:20241027T010000
END:STANDARD
BEGIN:DAYLIGHT
TZOFFSETFROM:+0000
TZOFFSETTO:+0100
TZNAME:BST
DTSTART:20250330T010000
END:DAYLIGHT
BEGIN:STANDARD
TZOFFSETFROM:+0100
TZOFFSETTO:+0000
TZNAME:GMT
DTSTART:20251026T010000
END:STANDARD
BEGIN:DAYLIGHT
TZOFFSETFROM:+0000
TZOFFSETTO:+0100
TZNAME:BST
DTSTART:20260329T010000
END:DAYLIGHT
BEGIN:STANDARD
TZOFFSETFROM:+0100
TZOFFSETTO:+0000
TZNAME:GMT
DTSTART:20261025T010000
END:STANDARD
END:VTIMEZONE
BEGIN:VEVENT
DTSTART;TZID=Europe/London:20251006T120000
DTEND;TZID=Europe/London:20251006T150000
DTSTAMP:20260424T124111
CREATED:20250929T123336Z
LAST-MODIFIED:20250929T123336Z
UID:533-1759752000-1759762800@walesbaltic.co.uk
SUMMARY:October 2025 'Chats' Get-together
DESCRIPTION:An informal get-together will take place on Monday October 6th\,  \nin ‘The Place To Eat’ café on the third level of the John Lewis store in Cardiff. \nJoin us any time between 12:00 and 15:00 for a chat and a snack.
URL:https://walesbaltic.co.uk/event/october-2025-chats-get-together/
LOCATION:The Place to Eat restaurant.  John Lewis\, Cardiff\, Level 3\, John Lewis & Partners\, The Hayes\, Cardiff\, CF10 1EG
CATEGORIES:'Chats',WBS Event
ATTACH;FMTTYPE=image/jpeg:https://walesbaltic.co.uk/wp-content/uploads/2025/01/JLewisTeaAndCake.jpg
ORGANIZER;CN="Wales Baltic Society":MAILTO:admin@walesbaltic.co.uk
END:VEVENT
END:VCALENDAR