BEGIN:VCALENDAR
VERSION:2.0
PRODID:-//Wales Baltic Society - ECPv6.15.17.1//NONSGML v1.0//EN
CALSCALE:GREGORIAN
METHOD:PUBLISH
X-ORIGINAL-URL:https://walesbaltic.co.uk
X-WR-CALDESC:Events for Wales Baltic Society
REFRESH-INTERVAL;VALUE=DURATION:PT1H
X-Robots-Tag:noindex
X-PUBLISHED-TTL:PT1H
BEGIN:VTIMEZONE
TZID:Europe/London
BEGIN:DAYLIGHT
TZOFFSETFROM:+0000
TZOFFSETTO:+0100
TZNAME:BST
DTSTART:20240331T010000
END:DAYLIGHT
BEGIN:STANDARD
TZOFFSETFROM:+0100
TZOFFSETTO:+0000
TZNAME:GMT
DTSTART:20241027T010000
END:STANDARD
BEGIN:DAYLIGHT
TZOFFSETFROM:+0000
TZOFFSETTO:+0100
TZNAME:BST
DTSTART:20250330T010000
END:DAYLIGHT
BEGIN:STANDARD
TZOFFSETFROM:+0100
TZOFFSETTO:+0000
TZNAME:GMT
DTSTART:20251026T010000
END:STANDARD
BEGIN:DAYLIGHT
TZOFFSETFROM:+0000
TZOFFSETTO:+0100
TZNAME:BST
DTSTART:20260329T010000
END:DAYLIGHT
BEGIN:STANDARD
TZOFFSETFROM:+0100
TZOFFSETTO:+0000
TZNAME:GMT
DTSTART:20261025T010000
END:STANDARD
END:VTIMEZONE
BEGIN:VEVENT
DTSTART;TZID=Europe/London:20251019T100000
DTEND;TZID=Europe/London:20251019T160000
DTSTAMP:20260424T164352
CREATED:20251012T194245Z
LAST-MODIFIED:20251012T201030Z
UID:540-1760868000-1760889600@walesbaltic.co.uk
SUMMARY:Cook & Connect: Dumplings\, Dessert\, and Togetherness! 🇱🇹🇱🇻🇪🇪
DESCRIPTION:The Lithuanian Community in Wales (Velso Lietuviu Bendruomene) is holding a ‘Cook & Connect’ event next Sunday 19th October\, to which Wales Baltic Society members are invited. In a novel approach to self-catering\, participants will prepare a communal meal before sitting down together to enjoy the fruits of their labours. \n Ieva McDonald\, Honorary Secretary and Alvis McDonald\, Chair of the Wales Baltic Society\, will be special guests.  \nThe event is free\, and you don’t need to bring anything – even aprons are provided. Numbers are limited\, however\, so don’t delay. Registration is open until Friday October 17th\, to allow time to purchase provisions. For further details and to register see (English language description follows the Lithuanian): \nhttps://www.eventbrite.co.uk/e/gaminam-ir-bendraujam-tickets-1730995667639?aff=ebdsoporgprofile
URL:https://walesbaltic.co.uk/event/cook-connect-dumplings-dessert-and-togetherness-%f0%9f%87%b1%f0%9f%87%b9%f0%9f%87%b1%f0%9f%87%bb%f0%9f%87%aa%f0%9f%87%aa/
LOCATION:Oasis Cardiff\, 69b Splott Rd\, Cardiff\, CF24 2BW
ATTACH;FMTTYPE=image/jpeg:https://walesbaltic.co.uk/wp-content/uploads/2025/10/lvb-cook-and-connect-table-small.jpg
ORGANIZER;CN="Lithuanian Community in Wales":MAILTO:info@vlb.wales
END:VEVENT
END:VCALENDAR