BEGIN:VCALENDAR
VERSION:2.0
PRODID:-//Wales Baltic Society - ECPv6.15.17.1//NONSGML v1.0//EN
CALSCALE:GREGORIAN
METHOD:PUBLISH
X-WR-CALNAME:Wales Baltic Society
X-ORIGINAL-URL:https://walesbaltic.co.uk
X-WR-CALDESC:Events for Wales Baltic Society
REFRESH-INTERVAL;VALUE=DURATION:PT1H
X-Robots-Tag:noindex
X-PUBLISHED-TTL:PT1H
BEGIN:VTIMEZONE
TZID:Europe/London
BEGIN:DAYLIGHT
TZOFFSETFROM:+0000
TZOFFSETTO:+0100
TZNAME:BST
DTSTART:20230326T010000
END:DAYLIGHT
BEGIN:STANDARD
TZOFFSETFROM:+0100
TZOFFSETTO:+0000
TZNAME:GMT
DTSTART:20231029T010000
END:STANDARD
BEGIN:DAYLIGHT
TZOFFSETFROM:+0000
TZOFFSETTO:+0100
TZNAME:BST
DTSTART:20240331T010000
END:DAYLIGHT
BEGIN:STANDARD
TZOFFSETFROM:+0100
TZOFFSETTO:+0000
TZNAME:GMT
DTSTART:20241027T010000
END:STANDARD
BEGIN:DAYLIGHT
TZOFFSETFROM:+0000
TZOFFSETTO:+0100
TZNAME:BST
DTSTART:20250330T010000
END:DAYLIGHT
BEGIN:STANDARD
TZOFFSETFROM:+0100
TZOFFSETTO:+0000
TZNAME:GMT
DTSTART:20251026T010000
END:STANDARD
END:VTIMEZONE
BEGIN:VEVENT
DTSTART;TZID=Europe/London:20241104T140000
DTEND;TZID=Europe/London:20241104T160000
DTSTAMP:20260424T162323
CREATED:20241030T133500Z
LAST-MODIFIED:20241030T133500Z
UID:403-1730728800-1730736000@walesbaltic.co.uk
SUMMARY:November 'Chats' Get-together.
DESCRIPTION:Join us for an informal\, drop-in session next Monday (November 4th) in the IKEA Cardiff restaurant at 2 PM.
URL:https://walesbaltic.co.uk/event/november-chats-get-together-2/
LOCATION:IKEA Restaurant\, Cardiff.\, Ferry Road\, Grangetown\, Cardiff\, CF11 0XR
CATEGORIES:'Chats',WBS Event
ATTACH;FMTTYPE=image/jpeg:https://walesbaltic.co.uk/wp-content/uploads/2024/02/Chats-IKEA-scaled.jpg
ORGANIZER;CN="Wales Baltic Society":MAILTO:admin@walesbaltic.co.uk
END:VEVENT
END:VCALENDAR