BEGIN:VCALENDAR
VERSION:2.0
PRODID:-//Wales Baltic Society - ECPv6.15.17.1//NONSGML v1.0//EN
CALSCALE:GREGORIAN
METHOD:PUBLISH
X-WR-CALNAME:Wales Baltic Society
X-ORIGINAL-URL:https://walesbaltic.co.uk
X-WR-CALDESC:Events for Wales Baltic Society
REFRESH-INTERVAL;VALUE=DURATION:PT1H
X-Robots-Tag:noindex
X-PUBLISHED-TTL:PT1H
BEGIN:VTIMEZONE
TZID:Europe/London
BEGIN:DAYLIGHT
TZOFFSETFROM:+0000
TZOFFSETTO:+0100
TZNAME:BST
DTSTART:20210328T010000
END:DAYLIGHT
BEGIN:STANDARD
TZOFFSETFROM:+0100
TZOFFSETTO:+0000
TZNAME:GMT
DTSTART:20211031T010000
END:STANDARD
BEGIN:DAYLIGHT
TZOFFSETFROM:+0000
TZOFFSETTO:+0100
TZNAME:BST
DTSTART:20220327T010000
END:DAYLIGHT
BEGIN:STANDARD
TZOFFSETFROM:+0100
TZOFFSETTO:+0000
TZNAME:GMT
DTSTART:20221030T010000
END:STANDARD
BEGIN:DAYLIGHT
TZOFFSETFROM:+0000
TZOFFSETTO:+0100
TZNAME:BST
DTSTART:20230326T010000
END:DAYLIGHT
BEGIN:STANDARD
TZOFFSETFROM:+0100
TZOFFSETTO:+0000
TZNAME:GMT
DTSTART:20231029T010000
END:STANDARD
END:VTIMEZONE
BEGIN:VEVENT
DTSTART;TZID=Europe/London:20221203T150000
DTEND;TZID=Europe/London:20221203T220000
DTSTAMP:20260424T102248
CREATED:20221113T192215Z
LAST-MODIFIED:20221114T184446Z
UID:167-1670079600-1670104800@walesbaltic.co.uk
SUMMARY:Lithuanian Community in Wales - Kaledos
DESCRIPTION:Tickets will be £10 available from eventbrite.com
URL:https://walesbaltic.co.uk/event/lithuanian-community-in-wales-kaledos/
LOCATION:Graig Community Centre\, Graig Community Centre\, Bassaleg\, Newport\, NP10 8HZ\, United Kingdom
ATTACH;FMTTYPE=image/jpeg:https://walesbaltic.co.uk/wp-content/uploads/2022/11/Kaledos-ChristmasPoster.jpg
ORGANIZER;CN="Lithuanian Community in Wales":MAILTO:info@vlb.wales
END:VEVENT
END:VCALENDAR